BEGIN:VCALENDAR
VERSION:2.0
PRODID:-//Ohio Life Sciences - ECPv6.15.18//NONSGML v1.0//EN
CALSCALE:GREGORIAN
METHOD:PUBLISH
X-WR-CALNAME:Ohio Life Sciences
X-ORIGINAL-URL:https://ols.spokeapps2.net
X-WR-CALDESC:Events for Ohio Life Sciences
REFRESH-INTERVAL;VALUE=DURATION:PT1H
X-Robots-Tag:noindex
X-PUBLISHED-TTL:PT1H
BEGIN:VTIMEZONE
TZID:America/New_York
BEGIN:DAYLIGHT
TZOFFSETFROM:-0500
TZOFFSETTO:-0400
TZNAME:EDT
DTSTART:20240310T070000
END:DAYLIGHT
BEGIN:STANDARD
TZOFFSETFROM:-0400
TZOFFSETTO:-0500
TZNAME:EST
DTSTART:20241103T060000
END:STANDARD
BEGIN:DAYLIGHT
TZOFFSETFROM:-0500
TZOFFSETTO:-0400
TZNAME:EDT
DTSTART:20250309T070000
END:DAYLIGHT
BEGIN:STANDARD
TZOFFSETFROM:-0400
TZOFFSETTO:-0500
TZNAME:EST
DTSTART:20251102T060000
END:STANDARD
BEGIN:DAYLIGHT
TZOFFSETFROM:-0500
TZOFFSETTO:-0400
TZNAME:EDT
DTSTART:20260308T070000
END:DAYLIGHT
BEGIN:STANDARD
TZOFFSETFROM:-0400
TZOFFSETTO:-0500
TZNAME:EST
DTSTART:20261101T060000
END:STANDARD
END:VTIMEZONE
BEGIN:VEVENT
DTSTART;TZID=America/New_York:20250130T140000
DTEND;TZID=America/New_York:20250130T164500
DTSTAMP:20260420T160143
CREATED:20241219T203858Z
LAST-MODIFIED:20241219T203858Z
UID:118975-1738245600-1738255500@ols.spokeapps2.net
SUMMARY:Walsh University Innovation Challenge Entrepreneurship in the Sciences
DESCRIPTION:The Center for Scientific Excellence invites you to participate in a special innovation challenge as part of our Science and Business Innovation Summit where winners will receive $10\,000 worth of analytical chemistry and/or technology commercialization services to accelerate the development of groundbreaking ideas\, products or technologies.
URL:https://ols.spokeapps2.net/event/walsh-university-innovation-challenge-entrepreneurship-in-the-sciences/
LOCATION:Walsh University\, North Canton\, OH\, United States
ATTACH;FMTTYPE=image/png:https://ols.spokeapps2.net/wp-content/uploads/2024/12/Screenshot-2024-12-17-125829.png
END:VEVENT
END:VCALENDAR