BEGIN:VCALENDAR
VERSION:2.0
PRODID:-//Ohio Life Sciences - ECPv6.15.18//NONSGML v1.0//EN
CALSCALE:GREGORIAN
METHOD:PUBLISH
X-WR-CALNAME:Ohio Life Sciences
X-ORIGINAL-URL:https://ols.spokeapps2.net
X-WR-CALDESC:Events for Ohio Life Sciences
REFRESH-INTERVAL;VALUE=DURATION:PT1H
X-Robots-Tag:noindex
X-PUBLISHED-TTL:PT1H
BEGIN:VTIMEZONE
TZID:America/New_York
BEGIN:DAYLIGHT
TZOFFSETFROM:-0500
TZOFFSETTO:-0400
TZNAME:EDT
DTSTART:20230312T070000
END:DAYLIGHT
BEGIN:STANDARD
TZOFFSETFROM:-0400
TZOFFSETTO:-0500
TZNAME:EST
DTSTART:20231105T060000
END:STANDARD
BEGIN:DAYLIGHT
TZOFFSETFROM:-0500
TZOFFSETTO:-0400
TZNAME:EDT
DTSTART:20240310T070000
END:DAYLIGHT
BEGIN:STANDARD
TZOFFSETFROM:-0400
TZOFFSETTO:-0500
TZNAME:EST
DTSTART:20241103T060000
END:STANDARD
BEGIN:DAYLIGHT
TZOFFSETFROM:-0500
TZOFFSETTO:-0400
TZNAME:EDT
DTSTART:20250309T070000
END:DAYLIGHT
BEGIN:STANDARD
TZOFFSETFROM:-0400
TZOFFSETTO:-0500
TZNAME:EST
DTSTART:20251102T060000
END:STANDARD
END:VTIMEZONE
BEGIN:VEVENT
DTSTART;TZID=America/New_York:20240904T170000
DTEND;TZID=America/New_York:20240904T210000
DTSTAMP:20260420T174250
CREATED:20240807T172644Z
LAST-MODIFIED:20240807T172644Z
UID:118578-1725469200-1725483600@ols.spokeapps2.net
SUMMARY:The Ohio Venture Pipeline - Mid-Year Review
DESCRIPTION:Join us at the Ohio Statehouse for the next Ohio Venture Pipeline event! \nCome help us celebrate 170+ Ohio-based successful startups that raised money from investors in the 1st Half of 2024. \nLearn the latest trends from our expert panel including Chris Berry\, CEO of OhioX\, Eddie Pauline\, MBA\, OhioCED\, CEO of Ohio Life Sciences\, and Jeff (J.D.) Davids of SmartMoney Ventures when they dive into the deals\, the themes\, and the people who are moving our community forward.
URL:https://ols.spokeapps2.net/event/the-ohio-venture-pipeline-mid-year-review/
LOCATION:The Ohio Statehouse\, 1 Capitol Square\, Columbus\, OH\, 43215\, United States
CATEGORIES:Access to Capital,Networking
ATTACH;FMTTYPE=image/jpeg:https://ols.spokeapps2.net/wp-content/uploads/2024/08/VP_Event.jpg
END:VEVENT
END:VCALENDAR