BEGIN:VCALENDAR
VERSION:2.0
PRODID:-//Ohio Life Sciences - ECPv6.15.18//NONSGML v1.0//EN
CALSCALE:GREGORIAN
METHOD:PUBLISH
X-WR-CALNAME:Ohio Life Sciences
X-ORIGINAL-URL:https://ols.spokeapps2.net
X-WR-CALDESC:Events for Ohio Life Sciences
REFRESH-INTERVAL;VALUE=DURATION:PT1H
X-Robots-Tag:noindex
X-PUBLISHED-TTL:PT1H
BEGIN:VTIMEZONE
TZID:America/New_York
BEGIN:DAYLIGHT
TZOFFSETFROM:-0500
TZOFFSETTO:-0400
TZNAME:EDT
DTSTART:20210314T070000
END:DAYLIGHT
BEGIN:STANDARD
TZOFFSETFROM:-0400
TZOFFSETTO:-0500
TZNAME:EST
DTSTART:20211107T060000
END:STANDARD
BEGIN:DAYLIGHT
TZOFFSETFROM:-0500
TZOFFSETTO:-0400
TZNAME:EDT
DTSTART:20220313T070000
END:DAYLIGHT
BEGIN:STANDARD
TZOFFSETFROM:-0400
TZOFFSETTO:-0500
TZNAME:EST
DTSTART:20221106T060000
END:STANDARD
BEGIN:DAYLIGHT
TZOFFSETFROM:-0500
TZOFFSETTO:-0400
TZNAME:EDT
DTSTART:20230312T070000
END:DAYLIGHT
BEGIN:STANDARD
TZOFFSETFROM:-0400
TZOFFSETTO:-0500
TZNAME:EST
DTSTART:20231105T060000
END:STANDARD
END:VTIMEZONE
BEGIN:VEVENT
DTSTART;TZID=America/New_York:20221018T093000
DTEND;TZID=America/New_York:20221018T153000
DTSTAMP:20260420T210554
CREATED:20220908T151648Z
LAST-MODIFIED:20220908T151648Z
UID:111015-1666085400-1666107000@ols.spokeapps2.net
SUMMARY:The Biotech Forum\, presented by Miami University and BioOhio
DESCRIPTION:
URL:https://ols.spokeapps2.net/event/the-biotech-forum-presented-by-miami-university-and-bioohio/
LOCATION:Miami University (Oxford\, Ohio)\, OH\, United States
CATEGORIES:Business Development & Entrepreneurs,Education & Training,Networking,Research & Development,Training & Career Development,Workforce & Careers
ATTACH;FMTTYPE=image/png:https://ols.spokeapps2.net/wp-content/uploads/2022/09/2022-10-18-MU-Biotech-Summit-banner-Boxed-v1-600.png
ORGANIZER;CN="BioOhio":MAILTO:bioohio@bioohio.com
END:VEVENT
END:VCALENDAR