BEGIN:VCALENDAR
VERSION:2.0
PRODID:-//Ohio Life Sciences - ECPv6.15.18//NONSGML v1.0//EN
CALSCALE:GREGORIAN
METHOD:PUBLISH
X-WR-CALNAME:Ohio Life Sciences
X-ORIGINAL-URL:https://ols.spokeapps2.net
X-WR-CALDESC:Events for Ohio Life Sciences
REFRESH-INTERVAL;VALUE=DURATION:PT1H
X-Robots-Tag:noindex
X-PUBLISHED-TTL:PT1H
BEGIN:VTIMEZONE
TZID:America/New_York
BEGIN:DAYLIGHT
TZOFFSETFROM:-0500
TZOFFSETTO:-0400
TZNAME:EDT
DTSTART:20230312T070000
END:DAYLIGHT
BEGIN:STANDARD
TZOFFSETFROM:-0400
TZOFFSETTO:-0500
TZNAME:EST
DTSTART:20231105T060000
END:STANDARD
BEGIN:DAYLIGHT
TZOFFSETFROM:-0500
TZOFFSETTO:-0400
TZNAME:EDT
DTSTART:20240310T070000
END:DAYLIGHT
BEGIN:STANDARD
TZOFFSETFROM:-0400
TZOFFSETTO:-0500
TZNAME:EST
DTSTART:20241103T060000
END:STANDARD
BEGIN:DAYLIGHT
TZOFFSETFROM:-0500
TZOFFSETTO:-0400
TZNAME:EDT
DTSTART:20250309T070000
END:DAYLIGHT
BEGIN:STANDARD
TZOFFSETFROM:-0400
TZOFFSETTO:-0500
TZNAME:EST
DTSTART:20251102T060000
END:STANDARD
END:VTIMEZONE
BEGIN:VEVENT
DTSTART;TZID=America/New_York:20241216T140000
DTEND;TZID=America/New_York:20241216T150000
DTSTAMP:20260420T160145
CREATED:20241114T140154Z
LAST-MODIFIED:20241114T140154Z
UID:118930-1734357600-1734361200@ols.spokeapps2.net
SUMMARY:OLS EWS: Advocacy - A New Potential Model
DESCRIPTION:Our sixth session will dive deep into Advocacy. Mark your calendar for December 16th\, when we’ll explore effective advocacy strategies tailored for life sciences. Don’t miss this valuable chance to enrich your understanding of this crucial area!
URL:https://ols.spokeapps2.net/event/ols-ews-advocacy-a-new-potential-model/
ATTACH;FMTTYPE=image/jpeg:https://ols.spokeapps2.net/wp-content/uploads/2024/11/imageedit_3_7055468359.jpg
END:VEVENT
END:VCALENDAR