BEGIN:VCALENDAR
VERSION:2.0
PRODID:-//Ohio Life Sciences - ECPv6.15.18//NONSGML v1.0//EN
CALSCALE:GREGORIAN
METHOD:PUBLISH
X-WR-CALNAME:Ohio Life Sciences
X-ORIGINAL-URL:https://ols.spokeapps2.net
X-WR-CALDESC:Events for Ohio Life Sciences
REFRESH-INTERVAL;VALUE=DURATION:PT1H
X-Robots-Tag:noindex
X-PUBLISHED-TTL:PT1H
BEGIN:VTIMEZONE
TZID:America/New_York
BEGIN:DAYLIGHT
TZOFFSETFROM:-0500
TZOFFSETTO:-0400
TZNAME:EDT
DTSTART:20220313T070000
END:DAYLIGHT
BEGIN:STANDARD
TZOFFSETFROM:-0400
TZOFFSETTO:-0500
TZNAME:EST
DTSTART:20221106T060000
END:STANDARD
BEGIN:DAYLIGHT
TZOFFSETFROM:-0500
TZOFFSETTO:-0400
TZNAME:EDT
DTSTART:20230312T070000
END:DAYLIGHT
BEGIN:STANDARD
TZOFFSETFROM:-0400
TZOFFSETTO:-0500
TZNAME:EST
DTSTART:20231105T060000
END:STANDARD
BEGIN:DAYLIGHT
TZOFFSETFROM:-0500
TZOFFSETTO:-0400
TZNAME:EDT
DTSTART:20240310T070000
END:DAYLIGHT
BEGIN:STANDARD
TZOFFSETFROM:-0400
TZOFFSETTO:-0500
TZNAME:EST
DTSTART:20241103T060000
END:STANDARD
END:VTIMEZONE
BEGIN:VEVENT
DTSTART;TZID=America/New_York:20230606T080000
DTEND;TZID=America/New_York:20230606T100000
DTSTAMP:20260420T193728
CREATED:20230518T161806Z
LAST-MODIFIED:20230518T161806Z
UID:114423-1686038400-1686045600@ols.spokeapps2.net
SUMMARY:OLS & Eli Lilly Panel and Legislative Roundtable on Obesity
DESCRIPTION:
URL:https://ols.spokeapps2.net/event/ols-eli-lilly-panel-and-legislative-roundtable-on-obesity/
LOCATION:Vern Riffe Center\, 15th Floor Majority Caucus Room\, 77 South High St.\, Columbus\, OH\, United States
CATEGORIES:Advocacy & Government Affairs
ATTACH;FMTTYPE=image/png:https://ols.spokeapps2.net/wp-content/uploads/2023/05/2023-6-6-OLS-Eli-Lilly-boxed-2-500.png
ORGANIZER;CN="Ohio Life Sciences":MAILTO:ols@ohiolifesciences.org
END:VEVENT
END:VCALENDAR