BEGIN:VCALENDAR
VERSION:2.0
PRODID:-//Ohio Life Sciences - ECPv6.15.18//NONSGML v1.0//EN
CALSCALE:GREGORIAN
METHOD:PUBLISH
X-WR-CALNAME:Ohio Life Sciences
X-ORIGINAL-URL:https://ols.spokeapps2.net
X-WR-CALDESC:Events for Ohio Life Sciences
REFRESH-INTERVAL;VALUE=DURATION:PT1H
X-Robots-Tag:noindex
X-PUBLISHED-TTL:PT1H
BEGIN:VTIMEZONE
TZID:America/New_York
BEGIN:DAYLIGHT
TZOFFSETFROM:-0500
TZOFFSETTO:-0400
TZNAME:EDT
DTSTART:20230312T070000
END:DAYLIGHT
BEGIN:STANDARD
TZOFFSETFROM:-0400
TZOFFSETTO:-0500
TZNAME:EST
DTSTART:20231105T060000
END:STANDARD
BEGIN:DAYLIGHT
TZOFFSETFROM:-0500
TZOFFSETTO:-0400
TZNAME:EDT
DTSTART:20240310T070000
END:DAYLIGHT
BEGIN:STANDARD
TZOFFSETFROM:-0400
TZOFFSETTO:-0500
TZNAME:EST
DTSTART:20241103T060000
END:STANDARD
BEGIN:DAYLIGHT
TZOFFSETFROM:-0500
TZOFFSETTO:-0400
TZNAME:EDT
DTSTART:20250309T070000
END:DAYLIGHT
BEGIN:STANDARD
TZOFFSETFROM:-0400
TZOFFSETTO:-0500
TZNAME:EST
DTSTART:20251102T060000
END:STANDARD
END:VTIMEZONE
BEGIN:VEVENT
DTSTART;TZID=America/New_York:20241114T160000
DTEND;TZID=America/New_York:20241114T180000
DTSTAMP:20260420T160146
CREATED:20240926T120758Z
LAST-MODIFIED:20240926T120758Z
UID:118792-1731600000-1731607200@ols.spokeapps2.net
SUMMARY:OLS Annual Meeting Invitation
DESCRIPTION:OLS members are invited to a special networking event at our offices overlooking the Columbus Innovation District. In addition to hearing an organizational update\, attendees will network with members of the inaugural class of candidates for the Columbus Business First’s Innovators in Healthcare and Life Sciences awards.
URL:https://ols.spokeapps2.net/event/ols-annual-meeting-invitation/
LOCATION:Ohio Life Sciences\, 1349 Lane Ave Suite 1010\, Columbus\, OH\, 43221\, United States
ATTACH;FMTTYPE=image/jpeg:https://ols.spokeapps2.net/wp-content/uploads/2024/09/imageedit_8_3389767172.jpg
ORGANIZER;CN="Ohio Life Sciences":MAILTO:ols@ohiolifesciences.org
END:VEVENT
END:VCALENDAR