BEGIN:VCALENDAR
VERSION:2.0
PRODID:-//Ohio Life Sciences - ECPv6.15.18//NONSGML v1.0//EN
CALSCALE:GREGORIAN
METHOD:PUBLISH
X-WR-CALNAME:Ohio Life Sciences
X-ORIGINAL-URL:https://ols.spokeapps2.net
X-WR-CALDESC:Events for Ohio Life Sciences
REFRESH-INTERVAL;VALUE=DURATION:PT1H
X-Robots-Tag:noindex
X-PUBLISHED-TTL:PT1H
BEGIN:VTIMEZONE
TZID:America/New_York
BEGIN:DAYLIGHT
TZOFFSETFROM:-0500
TZOFFSETTO:-0400
TZNAME:EDT
DTSTART:20240310T070000
END:DAYLIGHT
BEGIN:STANDARD
TZOFFSETFROM:-0400
TZOFFSETTO:-0500
TZNAME:EST
DTSTART:20241103T060000
END:STANDARD
BEGIN:DAYLIGHT
TZOFFSETFROM:-0500
TZOFFSETTO:-0400
TZNAME:EDT
DTSTART:20250309T070000
END:DAYLIGHT
BEGIN:STANDARD
TZOFFSETFROM:-0400
TZOFFSETTO:-0500
TZNAME:EST
DTSTART:20251102T060000
END:STANDARD
BEGIN:DAYLIGHT
TZOFFSETFROM:-0500
TZOFFSETTO:-0400
TZNAME:EDT
DTSTART:20260308T070000
END:DAYLIGHT
BEGIN:STANDARD
TZOFFSETFROM:-0400
TZOFFSETTO:-0500
TZNAME:EST
DTSTART:20261101T060000
END:STANDARD
END:VTIMEZONE
BEGIN:VEVENT
DTSTART;TZID=America/New_York:20250225T080000
DTEND;TZID=America/New_York:20250225T130000
DTSTAMP:20260420T174119
CREATED:20250204T131043Z
LAST-MODIFIED:20250204T144007Z
UID:119289-1740470400-1740488400@ols.spokeapps2.net
SUMMARY:Ohio Life Sciences Budget Grassroots Advocacy Day
DESCRIPTION:Join us for a pivotal day of engagement at the Ohio Statehouse as we come together to advocate for Ohio Life Sciences’ budget request and the future of our industry.
URL:https://ols.spokeapps2.net/event/ohio-life-sciences-budget-grassroots-advocacy-day/
LOCATION:The Ohio Statehouse\, 1 Capitol Square\, Columbus\, OH\, 43215\, United States
CATEGORIES:Advocacy & Government Affairs,OLS Signature
ATTACH;FMTTYPE=image/jpeg:https://ols.spokeapps2.net/wp-content/uploads/2025/02/imageedit_2_5615524590.jpg
END:VEVENT
END:VCALENDAR