BEGIN:VCALENDAR
VERSION:2.0
PRODID:-//Ohio Life Sciences - ECPv6.15.18//NONSGML v1.0//EN
CALSCALE:GREGORIAN
METHOD:PUBLISH
X-WR-CALNAME:Ohio Life Sciences
X-ORIGINAL-URL:https://ols.spokeapps2.net
X-WR-CALDESC:Events for Ohio Life Sciences
REFRESH-INTERVAL;VALUE=DURATION:PT1H
X-Robots-Tag:noindex
X-PUBLISHED-TTL:PT1H
BEGIN:VTIMEZONE
TZID:America/New_York
BEGIN:DAYLIGHT
TZOFFSETFROM:-0500
TZOFFSETTO:-0400
TZNAME:EDT
DTSTART:20210314T070000
END:DAYLIGHT
BEGIN:STANDARD
TZOFFSETFROM:-0400
TZOFFSETTO:-0500
TZNAME:EST
DTSTART:20211107T060000
END:STANDARD
BEGIN:DAYLIGHT
TZOFFSETFROM:-0500
TZOFFSETTO:-0400
TZNAME:EDT
DTSTART:20220313T070000
END:DAYLIGHT
BEGIN:STANDARD
TZOFFSETFROM:-0400
TZOFFSETTO:-0500
TZNAME:EST
DTSTART:20221106T060000
END:STANDARD
BEGIN:DAYLIGHT
TZOFFSETFROM:-0500
TZOFFSETTO:-0400
TZNAME:EDT
DTSTART:20230312T070000
END:DAYLIGHT
BEGIN:STANDARD
TZOFFSETFROM:-0400
TZOFFSETTO:-0500
TZNAME:EST
DTSTART:20231105T060000
END:STANDARD
END:VTIMEZONE
BEGIN:VEVENT
DTSTART;TZID=America/New_York:20221130T000000
DTEND;TZID=America/New_York:20221130T235959
DTSTAMP:20260420T193134
CREATED:20220829T194054Z
LAST-MODIFIED:20220829T194054Z
UID:111065-1669766400-1669852799@ols.spokeapps2.net
SUMMARY:Ohio Chamber Healthcare Transformation Summit
DESCRIPTION:
URL:https://ols.spokeapps2.net/event/ohio-chamber-healthcare-transformation-summit-2/
LOCATION:Sheraton Columbus Hotel at Capitol Square\, 75 E State St\, Columbus\, OH\, 43215\, United States
CATEGORIES:Access to Capital,Advocacy & Government Affairs,Business Development & Entrepreneurs,Health & Life Science IT,Healthcare,Medical Device & Equipment,Networking,Pharmaceuticals & Therapeutics,Professional Services,Research & Development,Workforce & Careers
END:VEVENT
END:VCALENDAR