BEGIN:VCALENDAR
VERSION:2.0
PRODID:-//Ohio Life Sciences - ECPv6.15.18//NONSGML v1.0//EN
CALSCALE:GREGORIAN
METHOD:PUBLISH
X-WR-CALNAME:Ohio Life Sciences
X-ORIGINAL-URL:https://ols.spokeapps2.net
X-WR-CALDESC:Events for Ohio Life Sciences
REFRESH-INTERVAL;VALUE=DURATION:PT1H
X-Robots-Tag:noindex
X-PUBLISHED-TTL:PT1H
BEGIN:VTIMEZONE
TZID:America/New_York
BEGIN:DAYLIGHT
TZOFFSETFROM:-0500
TZOFFSETTO:-0400
TZNAME:EDT
DTSTART:20220313T070000
END:DAYLIGHT
BEGIN:STANDARD
TZOFFSETFROM:-0400
TZOFFSETTO:-0500
TZNAME:EST
DTSTART:20221106T060000
END:STANDARD
BEGIN:DAYLIGHT
TZOFFSETFROM:-0500
TZOFFSETTO:-0400
TZNAME:EDT
DTSTART:20230312T070000
END:DAYLIGHT
BEGIN:STANDARD
TZOFFSETFROM:-0400
TZOFFSETTO:-0500
TZNAME:EST
DTSTART:20231105T060000
END:STANDARD
BEGIN:DAYLIGHT
TZOFFSETFROM:-0500
TZOFFSETTO:-0400
TZNAME:EDT
DTSTART:20240310T070000
END:DAYLIGHT
BEGIN:STANDARD
TZOFFSETFROM:-0400
TZOFFSETTO:-0500
TZNAME:EST
DTSTART:20241103T060000
END:STANDARD
END:VTIMEZONE
BEGIN:VEVENT
DTSTART;TZID=America/New_York:20230518T160000
DTEND;TZID=America/New_York:20230518T180000
DTSTAMP:20260420T223803
CREATED:20230501T193238Z
LAST-MODIFIED:20230501T193238Z
UID:114235-1684425600-1684432800@ols.spokeapps2.net
SUMMARY:Navigating SBIR/STTR Funding Opportunities from the NCI (May 18\, In-Person)
DESCRIPTION:
URL:https://ols.spokeapps2.net/event/navigating-sbir-sttr-funding-opportunities-from-the-nci-may-18-in-person/
LOCATION:Rev1 Ventures\, 1275 Kinnear Road\, Columbus\, OH\, 43212\, United States
CATEGORIES:Access to Capital
ATTACH;FMTTYPE=image/png:https://ols.spokeapps2.net/wp-content/uploads/2023/05/2023-5-18-SBIR-PM-in-person-boxed-500-b.png
ORGANIZER;CN="Ohio Life Sciences":MAILTO:ols@ohiolifesciences.org
END:VEVENT
END:VCALENDAR