BEGIN:VCALENDAR
VERSION:2.0
PRODID:-//Ohio Life Sciences - ECPv6.15.18//NONSGML v1.0//EN
CALSCALE:GREGORIAN
METHOD:PUBLISH
X-WR-CALNAME:Ohio Life Sciences
X-ORIGINAL-URL:https://ols.spokeapps2.net
X-WR-CALDESC:Events for Ohio Life Sciences
REFRESH-INTERVAL;VALUE=DURATION:PT1H
X-Robots-Tag:noindex
X-PUBLISHED-TTL:PT1H
BEGIN:VTIMEZONE
TZID:America/New_York
BEGIN:DAYLIGHT
TZOFFSETFROM:-0500
TZOFFSETTO:-0400
TZNAME:EDT
DTSTART:20220313T070000
END:DAYLIGHT
BEGIN:STANDARD
TZOFFSETFROM:-0400
TZOFFSETTO:-0500
TZNAME:EST
DTSTART:20221106T060000
END:STANDARD
BEGIN:DAYLIGHT
TZOFFSETFROM:-0500
TZOFFSETTO:-0400
TZNAME:EDT
DTSTART:20230312T070000
END:DAYLIGHT
BEGIN:STANDARD
TZOFFSETFROM:-0400
TZOFFSETTO:-0500
TZNAME:EST
DTSTART:20231105T060000
END:STANDARD
BEGIN:DAYLIGHT
TZOFFSETFROM:-0500
TZOFFSETTO:-0400
TZNAME:EDT
DTSTART:20240310T070000
END:DAYLIGHT
BEGIN:STANDARD
TZOFFSETFROM:-0400
TZOFFSETTO:-0500
TZNAME:EST
DTSTART:20241103T060000
END:STANDARD
END:VTIMEZONE
BEGIN:VEVENT
DTSTART;TZID=America/New_York:20230523T170000
DTEND;TZID=America/New_York:20230523T190000
DTSTAMP:20260420T194208
CREATED:20230406T130944Z
LAST-MODIFIED:20230406T130944Z
UID:114072-1684861200-1684868400@ols.spokeapps2.net
SUMMARY:Life Sciences Advocacy Day at the Ohio Statehouse
DESCRIPTION:
URL:https://ols.spokeapps2.net/event/life-sciences-advocacy-day-at-the-ohio-statehouse/
LOCATION:The Ohio Statehouse\, 1 Capitol Square\, Columbus\, OH\, 43215\, United States
CATEGORIES:Advocacy & Government Affairs,Medical Device & Equipment,Networking,Pharmaceuticals & Therapeutics,Research & Development,Startups
ATTACH;FMTTYPE=image/png:https://ols.spokeapps2.net/wp-content/uploads/2023/04/2023-5-23-Advocacy-Day-Boxed-v3.png
ORGANIZER;CN="Ohio Life Sciences":MAILTO:ols@ohiolifesciences.org
END:VEVENT
END:VCALENDAR