BEGIN:VCALENDAR
VERSION:2.0
PRODID:-//Ohio Life Sciences - ECPv6.15.18//NONSGML v1.0//EN
CALSCALE:GREGORIAN
METHOD:PUBLISH
X-WR-CALNAME:Ohio Life Sciences
X-ORIGINAL-URL:https://ols.spokeapps2.net
X-WR-CALDESC:Events for Ohio Life Sciences
REFRESH-INTERVAL;VALUE=DURATION:PT1H
X-Robots-Tag:noindex
X-PUBLISHED-TTL:PT1H
BEGIN:VTIMEZONE
TZID:America/New_York
BEGIN:DAYLIGHT
TZOFFSETFROM:-0500
TZOFFSETTO:-0400
TZNAME:EDT
DTSTART:20230312T070000
END:DAYLIGHT
BEGIN:STANDARD
TZOFFSETFROM:-0400
TZOFFSETTO:-0500
TZNAME:EST
DTSTART:20231105T060000
END:STANDARD
BEGIN:DAYLIGHT
TZOFFSETFROM:-0500
TZOFFSETTO:-0400
TZNAME:EDT
DTSTART:20240310T070000
END:DAYLIGHT
BEGIN:STANDARD
TZOFFSETFROM:-0400
TZOFFSETTO:-0500
TZNAME:EST
DTSTART:20241103T060000
END:STANDARD
BEGIN:DAYLIGHT
TZOFFSETFROM:-0500
TZOFFSETTO:-0400
TZNAME:EDT
DTSTART:20250309T070000
END:DAYLIGHT
BEGIN:STANDARD
TZOFFSETFROM:-0400
TZOFFSETTO:-0500
TZNAME:EST
DTSTART:20251102T060000
END:STANDARD
END:VTIMEZONE
BEGIN:VEVENT
DTSTART;TZID=America/New_York:20241017T123000
DTEND;TZID=America/New_York:20241017T130000
DTSTAMP:20260420T160328
CREATED:20241008T134655Z
LAST-MODIFIED:20241008T134655Z
UID:118822-1729168200-1729170000@ols.spokeapps2.net
SUMMARY:G2G's Monthly Non-Dilutive Funding: GBG Reporting Service Webinar
DESCRIPTION:Unlock Non-Dilutive Funding! Ohio Life Sciences Member Benefit\nEvery 3rd Thursday\, G2G – Innovative Government Affairs Consulting hosts a FREE webinar for members to learn about grant opportunities in life sciences. At 12:30 pm EDT (premium service and consultation for OLS members\, G2G clients\, and GBG customers).
URL:https://ols.spokeapps2.net/event/g2gs-monthly-non-dilutive-funding-gbg-reporting-service-webinar-2/
CATEGORIES:Industry Information,Online Event
ATTACH;FMTTYPE=image/jpeg:https://ols.spokeapps2.net/wp-content/uploads/2024/10/imageedit_1_5199233931.jpg
END:VEVENT
END:VCALENDAR