BEGIN:VCALENDAR
VERSION:2.0
PRODID:-//Ohio Life Sciences - ECPv6.15.18//NONSGML v1.0//EN
CALSCALE:GREGORIAN
METHOD:PUBLISH
X-WR-CALNAME:Ohio Life Sciences
X-ORIGINAL-URL:https://ols.spokeapps2.net
X-WR-CALDESC:Events for Ohio Life Sciences
REFRESH-INTERVAL;VALUE=DURATION:PT1H
X-Robots-Tag:noindex
X-PUBLISHED-TTL:PT1H
BEGIN:VTIMEZONE
TZID:America/New_York
BEGIN:DAYLIGHT
TZOFFSETFROM:-0500
TZOFFSETTO:-0400
TZNAME:EDT
DTSTART:20220313T070000
END:DAYLIGHT
BEGIN:STANDARD
TZOFFSETFROM:-0400
TZOFFSETTO:-0500
TZNAME:EST
DTSTART:20221106T060000
END:STANDARD
BEGIN:DAYLIGHT
TZOFFSETFROM:-0500
TZOFFSETTO:-0400
TZNAME:EDT
DTSTART:20230312T070000
END:DAYLIGHT
BEGIN:STANDARD
TZOFFSETFROM:-0400
TZOFFSETTO:-0500
TZNAME:EST
DTSTART:20231105T060000
END:STANDARD
BEGIN:DAYLIGHT
TZOFFSETFROM:-0500
TZOFFSETTO:-0400
TZNAME:EDT
DTSTART:20240310T070000
END:DAYLIGHT
BEGIN:STANDARD
TZOFFSETFROM:-0400
TZOFFSETTO:-0500
TZNAME:EST
DTSTART:20241103T060000
END:STANDARD
END:VTIMEZONE
BEGIN:VEVENT
DTSTART;TZID=America/New_York:20230531T160000
DTEND;TZID=America/New_York:20230531T180000
DTSTAMP:20260420T210550
CREATED:20230501T205519Z
LAST-MODIFIED:20230501T205519Z
UID:114250-1685548800-1685556000@ols.spokeapps2.net
SUMMARY:Capital Raise Strategies\, an OLS Networking & Education Meeting
DESCRIPTION:
URL:https://ols.spokeapps2.net/event/capital-raise-strategies-an-ols-networking-education-meeting/
LOCATION:Nuevo Modern Mexican & Tequila Bar\, 1000 East 9th Street\, Cleveland\, OH\, 44114\, United States
CATEGORIES:Access to Capital,Networking
ATTACH;FMTTYPE=image/png:https://ols.spokeapps2.net/wp-content/uploads/2023/05/OLS-2023-5-31-networking-boxed-500.png
ORGANIZER;CN="Ohio Life Sciences":MAILTO:ols@ohiolifesciences.org
END:VEVENT
END:VCALENDAR