BEGIN:VCALENDAR
VERSION:2.0
PRODID:-//Ohio Life Sciences - ECPv6.15.18//NONSGML v1.0//EN
CALSCALE:GREGORIAN
METHOD:PUBLISH
X-WR-CALNAME:Ohio Life Sciences
X-ORIGINAL-URL:https://ols.spokeapps2.net
X-WR-CALDESC:Events for Ohio Life Sciences
REFRESH-INTERVAL;VALUE=DURATION:PT1H
X-Robots-Tag:noindex
X-PUBLISHED-TTL:PT1H
BEGIN:VTIMEZONE
TZID:America/New_York
BEGIN:DAYLIGHT
TZOFFSETFROM:-0500
TZOFFSETTO:-0400
TZNAME:EDT
DTSTART:20240310T070000
END:DAYLIGHT
BEGIN:STANDARD
TZOFFSETFROM:-0400
TZOFFSETTO:-0500
TZNAME:EST
DTSTART:20241103T060000
END:STANDARD
BEGIN:DAYLIGHT
TZOFFSETFROM:-0500
TZOFFSETTO:-0400
TZNAME:EDT
DTSTART:20250309T070000
END:DAYLIGHT
BEGIN:STANDARD
TZOFFSETFROM:-0400
TZOFFSETTO:-0500
TZNAME:EST
DTSTART:20251102T060000
END:STANDARD
BEGIN:DAYLIGHT
TZOFFSETFROM:-0500
TZOFFSETTO:-0400
TZNAME:EDT
DTSTART:20260308T070000
END:DAYLIGHT
BEGIN:STANDARD
TZOFFSETFROM:-0400
TZOFFSETTO:-0500
TZNAME:EST
DTSTART:20261101T060000
END:STANDARD
END:VTIMEZONE
BEGIN:VEVENT
DTSTART;TZID=America/New_York:20250310T090000
DTEND;TZID=America/New_York:20250310T160000
DTSTAMP:20260420T141526
CREATED:20250210T210302Z
LAST-MODIFIED:20250224T205928Z
UID:119745-1741597200-1741622400@ols.spokeapps2.net
SUMMARY:BioPathways 1-Day Workshop
DESCRIPTION:Collaborate with bioscience experts from Ohio Life Sciences to gain industry insights and firsthand experience during one full day of hands-on learning. After this workshop\, participants will know how to teach design thinking\, understand bioinformatics teaching techniques\, and be able to guide students in modeling protein synthesis\, expressing proteins\, and purifying proteins. Teachers will receive supplies to complete activities in their classrooms. The experience is limited to 30 participants.
URL:https://ols.spokeapps2.net/event/biopathways-1-day-workshop/
LOCATION:Delaware Area Career Center South Campus\, 4565 Columbus Pike\, Delaware\, OH\, 43015\, United States
CATEGORIES:Workshop
ATTACH;FMTTYPE=image/jpeg:https://ols.spokeapps2.net/wp-content/uploads/2025/02/IMG_9121.jpg
END:VEVENT
END:VCALENDAR