BEGIN:VCALENDAR
VERSION:2.0
PRODID:-//Ohio Life Sciences - ECPv6.15.18//NONSGML v1.0//EN
CALSCALE:GREGORIAN
METHOD:PUBLISH
X-WR-CALNAME:Ohio Life Sciences
X-ORIGINAL-URL:https://ols.spokeapps2.net
X-WR-CALDESC:Events for Ohio Life Sciences
REFRESH-INTERVAL;VALUE=DURATION:PT1H
X-Robots-Tag:noindex
X-PUBLISHED-TTL:PT1H
BEGIN:VTIMEZONE
TZID:America/New_York
BEGIN:DAYLIGHT
TZOFFSETFROM:-0500
TZOFFSETTO:-0400
TZNAME:EDT
DTSTART:20220313T070000
END:DAYLIGHT
BEGIN:STANDARD
TZOFFSETFROM:-0400
TZOFFSETTO:-0500
TZNAME:EST
DTSTART:20221106T060000
END:STANDARD
BEGIN:DAYLIGHT
TZOFFSETFROM:-0500
TZOFFSETTO:-0400
TZNAME:EDT
DTSTART:20230312T070000
END:DAYLIGHT
BEGIN:STANDARD
TZOFFSETFROM:-0400
TZOFFSETTO:-0500
TZNAME:EST
DTSTART:20231105T060000
END:STANDARD
BEGIN:DAYLIGHT
TZOFFSETFROM:-0500
TZOFFSETTO:-0400
TZNAME:EDT
DTSTART:20240310T070000
END:DAYLIGHT
BEGIN:STANDARD
TZOFFSETFROM:-0400
TZOFFSETTO:-0500
TZNAME:EST
DTSTART:20241103T060000
END:STANDARD
END:VTIMEZONE
BEGIN:VEVENT
DTSTART;TZID=America/New_York:20230605T000000
DTEND;TZID=America/New_York:20230608T235959
DTSTAMP:20260420T193728
CREATED:20221013T195345Z
LAST-MODIFIED:20221013T195345Z
UID:111834-1685923200-1686268799@ols.spokeapps2.net
SUMMARY:BIO International Convention 2023
DESCRIPTION:
URL:https://ols.spokeapps2.net/event/bio-international-convention-2023/
LOCATION:Boston Convention & Exhibition Center\, 415 Summer Street\, Boston\, MA\, 02110\, United States
CATEGORIES:Advocacy & Government Affairs,Agricultural Biotechnology,Business Development & Entrepreneurs,Medical Device & Equipment,Networking,Pharmaceuticals & Therapeutics,Research & Development,Trade Shows
ATTACH;FMTTYPE=image/jpeg:https://ols.spokeapps2.net/wp-content/uploads/2023/03/267519_BIO_23_Web-365x300-1.jpg
ORGANIZER;CN="BIO":MAILTO:info@bio.org
END:VEVENT
END:VCALENDAR