BEGIN:VCALENDAR
VERSION:2.0
PRODID:-//Ohio Life Sciences - ECPv6.15.18//NONSGML v1.0//EN
CALSCALE:GREGORIAN
METHOD:PUBLISH
X-WR-CALNAME:Ohio Life Sciences
X-ORIGINAL-URL:https://ols.spokeapps2.net
X-WR-CALDESC:Events for Ohio Life Sciences
REFRESH-INTERVAL;VALUE=DURATION:PT1H
X-Robots-Tag:noindex
X-PUBLISHED-TTL:PT1H
BEGIN:VTIMEZONE
TZID:America/New_York
BEGIN:DAYLIGHT
TZOFFSETFROM:-0500
TZOFFSETTO:-0400
TZNAME:EDT
DTSTART:20230312T070000
END:DAYLIGHT
BEGIN:STANDARD
TZOFFSETFROM:-0400
TZOFFSETTO:-0500
TZNAME:EST
DTSTART:20231105T060000
END:STANDARD
BEGIN:DAYLIGHT
TZOFFSETFROM:-0500
TZOFFSETTO:-0400
TZNAME:EDT
DTSTART:20240310T070000
END:DAYLIGHT
BEGIN:STANDARD
TZOFFSETFROM:-0400
TZOFFSETTO:-0500
TZNAME:EST
DTSTART:20241103T060000
END:STANDARD
BEGIN:DAYLIGHT
TZOFFSETFROM:-0500
TZOFFSETTO:-0400
TZNAME:EDT
DTSTART:20250309T070000
END:DAYLIGHT
BEGIN:STANDARD
TZOFFSETFROM:-0400
TZOFFSETTO:-0500
TZNAME:EST
DTSTART:20251102T060000
END:STANDARD
END:VTIMEZONE
BEGIN:VEVENT
DTSTART;TZID=America/New_York:20241009T083000
DTEND;TZID=America/New_York:20241009T120000
DTSTAMP:20260420T174306
CREATED:20240927T134743Z
LAST-MODIFIED:20240927T134743Z
UID:118801-1728462600-1728475200@ols.spokeapps2.net
SUMMARY:Accessing NIH’s SBIR/STTR Funding: An Insider’s Perspective on Winning Strategies
DESCRIPTION:Life science entrepreneurs and small businesses will learn valuable strategies for successfully competing for the Nation’s largest seed fund intended to de-risk early-stage inventions and bridge the proverbial valley of death.
URL:https://ols.spokeapps2.net/event/accessing-nihs-sbir-sttr-funding-an-insiders-perspective-on-winning-strategies/
LOCATION:Cedar Startup Incubator at Case Western Reserve University\, Cedar Avenue\, Cleveland\, OH\, 44106\, United States
ATTACH;FMTTYPE=image/jpeg:https://ols.spokeapps2.net/wp-content/uploads/2024/09/imageedit_1_5560688879.jpg
END:VEVENT
END:VCALENDAR