BEGIN:VCALENDAR
VERSION:2.0
PRODID:-//Ohio Life Sciences - ECPv6.15.18//NONSGML v1.0//EN
CALSCALE:GREGORIAN
METHOD:PUBLISH
X-WR-CALNAME:Ohio Life Sciences
X-ORIGINAL-URL:https://ols.spokeapps2.net
X-WR-CALDESC:Events for Ohio Life Sciences
REFRESH-INTERVAL;VALUE=DURATION:PT1H
X-Robots-Tag:noindex
X-PUBLISHED-TTL:PT1H
BEGIN:VTIMEZONE
TZID:America/New_York
BEGIN:DAYLIGHT
TZOFFSETFROM:-0500
TZOFFSETTO:-0400
TZNAME:EDT
DTSTART:20210314T070000
END:DAYLIGHT
BEGIN:STANDARD
TZOFFSETFROM:-0400
TZOFFSETTO:-0500
TZNAME:EST
DTSTART:20211107T060000
END:STANDARD
BEGIN:DAYLIGHT
TZOFFSETFROM:-0500
TZOFFSETTO:-0400
TZNAME:EDT
DTSTART:20220313T070000
END:DAYLIGHT
BEGIN:STANDARD
TZOFFSETFROM:-0400
TZOFFSETTO:-0500
TZNAME:EST
DTSTART:20221106T060000
END:STANDARD
BEGIN:DAYLIGHT
TZOFFSETFROM:-0500
TZOFFSETTO:-0400
TZNAME:EDT
DTSTART:20230312T070000
END:DAYLIGHT
BEGIN:STANDARD
TZOFFSETFROM:-0400
TZOFFSETTO:-0500
TZNAME:EST
DTSTART:20231105T060000
END:STANDARD
END:VTIMEZONE
BEGIN:VEVENT
DTSTART;TZID=America/New_York:20220511T000000
DTEND;TZID=America/New_York:20220511T235959
DTSTAMP:20260420T212404
CREATED:20220318T153134Z
LAST-MODIFIED:20220318T153134Z
UID:108759-1652227200-1652313599@ols.spokeapps2.net
SUMMARY:14th Annual FDA/AdvaMed Medical Devices and Diagnostics Statistics Issues Conference
DESCRIPTION:
URL:https://ols.spokeapps2.net/event/14th-annual-fda-advamed-medical-devices-and-diagnostics-statistics-issues-conference/
LOCATION:Online Event
CATEGORIES:Advocacy & Government Affairs,Medical Device & Equipment,Online Event,Professional Services,Regulatory & Reimbursement,Research & Development,Startups
ORGANIZER;CN="AdvaMed":MAILTO:info@advamed.org
END:VEVENT
END:VCALENDAR